BEGIN:VCALENDAR
VERSION:2.0
PRODID:-//ChamberMaster//Event Calendar 2.0//EN
METHOD:PUBLISH
X-PUBLISHED-TTL:P3D
REFRESH-INTERVAL:P3D
CALSCALE:GREGORIAN
BEGIN:VEVENT
DTSTART:20260415T173000Z
DTEND:20260415T193000Z
X-MICROSOFT-CDO-ALLDAYEVENT:FALSE
SUMMARY:Business @ Lunch
DESCRIPTION:Jamie Swanson\n\nPresident & Senior Cyber Analyst\n\nZen Cyber Ltd.\n\nJoin us for an eye-opening discussion around how to maximize your security while minimizing your online footprint.  During this presentation\, Jamie will show you how to safely ensure your online presence is coupled with online best practices.  Throughout this discussion\, you will learn how to identify different types of phishing patterns and behaviours\, how to minimize your risk of falling for Social Engineering patterns\, and proper procedures to protect you and your organization from falling victim to the ongoing presence of cyber-crime.\n\n \n\nWith over 25 years in IT management and consulting\, Jamie has seen technology evolve from every angle. He specializes in cybersecurity risk mitigation\, helping businesses build technology roadmaps and secure processes that align with their goals.
X-ALT-DESC;FMTTYPE=text/html:<span style="font-size:14px\;"><span style="font-family:arial\;">Jamie Swanson<br />\n<font color="#000000">President &amp\; Senior Cyber Analyst<br />\nZen Cyber Ltd.</font></span></span><br />\nJoin us for an eye-opening discussion around how to maximize your security while minimizing your online footprint.&nbsp\; During this presentation\, Jamie will show you how to safely ensure your online presence is coupled with online best practices.&nbsp\; Throughout this discussion\, you will learn how to identify different types of phishing patterns and behaviours\, how to minimize your risk of falling for Social Engineering patterns\, and proper procedures to protect you and your organization from falling victim to the ongoing presence of cyber-crime.<br />\n&nbsp\;<br />\n<span style="font-family:aptos\,sans-serif\;">With over 25 years in IT management and consulting\, Jamie has seen technology evolve from every angle. He specializes in cybersecurity risk mitigation\, helping businesses build technology roadmaps and secure processes that align with their goals.</span><br />\n<br />\n&nbsp\;
LOCATION:St. Albert 50+ Activity Centre 7 Tache Street
UID:e.824.2266
SEQUENCE:3
DTSTAMP:20260420T042445Z
URL:http://stalbert.chambermaster.com/events/details/business-lunch-2266
END:VEVENT

END:VCALENDAR
